Workbook

Sheet גיליון2
A1: תואר | C1: שם משפחה | D1: שם פרטי | E1: סטטוס משרדי | F1: Email | G1: טלפון נייד | H1: עיר | I1: התמחות | J1: הערות
A2: ד"ר | B2: =C2&" "&D2 -> אגבאריה דאהר | C2: אגבאריה | D2: דאהר | E2: רופא צלילה | F2: Dahereg@gmail.com | G2: 054-7778187 | H2: אילת | I2: מומחה לרפואה דחופה
A3: ד"ר | B3: =C3&" "&D3 -> אוסטפלד ישי | C3: אוסטפלד | D3: ישי | E3: רופא צלילה | F3: iostfeld@hotmail.com | G3: 050-6136635 | H3: רמת גן | I3: רופא צלילה מומחה לניתוחי לב וחזה מומחה למינהל רפואי רופא ספורט רופא תעופתי
A4: ד"ר | B4: =C4&" "&D4 -> אור עמרי | C4: אור | D4: עמרי | E4: רופא צלילה | F4: omriorr@gmail.com | G4: 050-8680798 | H4: חיפה | I4: מומחה אורתופדיה. רופא משפחה, כללי וצלילה
A5: ד"ר | B5: =C5&" "&D5 -> אורבך דליה | C5: אורבך | D5: דליה | E5: רופאת צלילה | F5: hsdne@bezeqint.net | G5: 086337517 | H5: אילת | I5: רפואת צלילה | J5: כתובת לוס אנגלס פטיו 1199 אילת
A6: ד"ר | B6: =C6&" "&D6 -> אליאס דקל | C6: אליאס | D6: דקל | E6: רופא צלילה | F6: elias.dekel@gmail.com | G6: 050-4838333 | H6: אילת | I6: רופא משפחה
A7: ד"ר | B7: =C7&" "&D7 -> אפרת כרמלה (כרמל) | C7: אפרת | D7: כרמלה (כרמל) | E7: רופאת צלילה בכירה | F7: Keren1@inter.net.il | G7: 050-5674693 | H7: חיפה, תל אביב\הרצליה, אילת | I7: רופאה תעופתית בכירה ישראל, ארה"ב
A8: פרופ' | B8: =C8&" "&D8 -> אפרתי שי | C8: אפרתי | D8: שי | E8: רופא צלילה בכיר | F8: efratishai@outlook.com | G8: 054-92-2866 | H8: בית חולים שמיר (אסף הרופא) | I8: רפואת צלילה | J8: מנהל מרכז 'סגול' לרפואה היפרברית וצלילה
A9: ד"ר | B9: =C9&" "&D9 -> ארנון רון | C9: ארנון | D9: רון | E9: רופא צלילה | F9: rarnon306@gmail.com | G9: 052-8306451 | H9: ירושלים | I9: מומחה לרפואה פנימי, מחלות דרכי העיכול והכבד
A10: פרופ' | B10: =C10&" "&D10 -> ביטרמן חיים | C10: ביטרמן | D10: חיים | E10: רופא צלילה בכיר | F10: haimb@technion.ac.il | G10: 050-6265504 | H10: חיפה | I10: רפואה פנימית
A11: ד"ר | B11: =C11&" "&D11 -> בלאו אילן | C11: בלאו | D11: אילן | E11: רופא צלילה | F11: dr.ilanblau@gmail.com | G11: 053-3649359 | H11: כפר סבא | I11: מומחה למחלות א.א.ג וניתוחי ראש צוואר כירורגיה אנדוסקופית של אף, סינוסים ובסיס גולגולת
A12: ד"ר | B12: =C12&" "&D12 -> בר רונן | C12: בר | D12: רונן | E12: רופא צלילה בכיר | F12: ronen.n.bar@gmail.com | G12: 052-9257123 | H12: פרדס חנה | I12: =VLOOKUP(B:B,[1]גיליון1!$B:$F,5,0) -> אא"ג
A13: ד"ר | B13: =C13&" "&D13 -> ברק יאיר | C13: ברק | D13: יאיר | E13: רופא צלילה | F13: yair@barakmedical.com | G13: 055-7047534 | H13: קרית אונו | I13: מומחה ברפואה תעסוקתית מומחה במנהל רפואי | J13: רופא צלילה ומדריך צלילה לרבות לצוללים עם צרכים מיוחדים לקביתע תורים ניתן להתקשר או לשלוח הודעה בווטצאפ
A14: ד"ר | B14: =C14&" "&D14 -> בשור עמרי | C14: בשור | D14: עמרי | E14: רופא צלילה | F14: Besor.omri@gmail.com | G14: 052-3200141 | H14: פרדס חנה | I14: רופא ספורט, מתמחה ברפואת משפחה
A15: ד"ר | B15: =C15&" "&D15 -> גור איבן | C15: גור | D15: איבן | E15: רופא צלילה בכיר | F15: ostyly@gmail.com | G15: 054-2555655 | H15: בנימינה | I15: רפואה פנימית
A16: ד"ר | B16: =C16&" "&D16 -> גילוני יאיר | C16: גילוני | D16: יאיר | E16: רופא צלילה | F16: ygilony@gmail.com | G16: 052-6848000 | H16: תל אביב | I16: רפואת צלילה
A17: ד"ר | B17: =C17&" "&D17 -> גלבוע בועז | C17: גלבוע | D17: בועז | E17: רופא צלילה | F17: boazgilboa1@gmail.com | G17: 054-5762599 | H17: מודיעין | I17: מומחה נוירודיולוג
A18: ד"ר | B18: =C18&" "&D18 -> גרין מיכאל-ברנרד | C18: גרין | D18: מיכאל-ברנרד | E18: רופא צלילה | F18: berniegreen@orange.net.il | G18: 050-8801023 | H18: כפר סבא | I18: רופא משפחה
A19: ד"ר | B19: =C19&" "&D19 -> דותן יניב | C19: דותן | D19: יניב | E19: רופא צלילה | F19: yanivdotan@gmail.com | H19: חיפה
A20: ד"ר | B20: =C20&" "&D20 -> הדני אמיר | C20: הדני | D20: אמיר | E20: רופא צלילה בכיר | F20: amir.had@gmail.com | G20: (+)1-518-801-8712 | H20: Florida, USA | I20: נוירוכירורגיה | J20: ייעוצי REMOTE בלבד
A21: פרופ | B21: =C21&" "&D21 -> הלפרן פנחס | C21: הלפרן | D21: פנחס | E21: רופא צלילה בכיר | F21: hpinny@gmail.com | H21: תל אביב | I21: =VLOOKUP(B:B,[1]גיליון1!$B:$F,5,0) -> רפואת צלילה | J21: ניתן ליצור קשר במייל - יעוצים בלבד
A22: ד"ר | B22: =C22&" "&D22 -> המלט יהלי | C22: המלט | D22: יהלי | E22: רופאת צלילה בכירה | F22: Yahli.hamlet@gmail.com | G22: 050-7875598 | H22: עתלית יפה נוף1/11 | I22: מומחית רפואת ילדים, תעופה וספורט | J22: ניתן ליצור קשר בוואטסאפ/מייל
A23: ד"ר | B23: =C23&" "&D23 -> ויטלי דיזינגוף | C23: ויטלי | D23: דיזינגוף | E23: רופא צלילה | F23: VitalyDi@clalit.org.il | G23: 052-6056488 | H23: אילת | I23: מומחה במחלות פנימיות וגסטרואנטרולוגיה ומחלות כבד
A24: פרופ' | B24: =C24&" "&D24 -> ויזל אורי | C24: ויזל | D24: אורי | E24: רופא צלילה | F24: Divingdoc1@gmail.com | G24: 054-9607701 | H24: טבריה, הרצליה | I24: מומחה בניתוחי חזה, כירורגיה כללית
A25: ד"ר | B25: =C25&" "&D25 -> וייס גל | C25: וייס | D25: גל | E25: רופא צלילה | F25: drgalweiss@gmail.com | G25: 050-4448546 | H25: אילת | I25: רפואה דחופה, משפחה, פנימית וצלילה | J25: ניתן ליצור קשר בוואטסאפ/מייל
A26: פרופ' | B26: =C26&" "&D26 -> ויסמן דן-ישראל | C26: ויסמן | D26: דן-ישראל | E26: רופא צלילה | F26: dwaisman@gmail.com | G26: 054-5221303 | H26: חיפה | I26: =VLOOKUP(B:B,[1]גיליון1!$B:$F,5,0) -> רפואת ילדים ורפואת ילודים ופגים
A27: ד"ר | B27: =C27&" "&D27 -> וקסלר רויטל | C27: וקסלר | D27: רויטל | E27: רופא צלילה | F27: twmddmd@gmail.com | H27: חיפה, שמשית | I27: =VLOOKUP(B:B,[1]גיליון1!$B:$F,5,0) -> רפואת שיניים, רפואת נשים | J27: ניתן ליצור קשר במייל בלבד
A28: ד"ר | B28: =C28&" "&D28 -> ז"ק רם | C28: ז"ק | D28: רם | E28: רופא צלילה בכיר | F28: ramsack@walla.com | G28: 052-8603763 | H28: בי"ח אלישע חיפה | I28: מומחה כירוגיה אורטופדית, רפואת ספורט, תעופה וצלילה
A29: ד"ר | B29: =C29&" "&D29 -> זרייק ענאן | C29: זרייק | D29: ענאן | E29: רופא צלילה | F29: anan.zr35@gmail.com | G29: 052-7211031 | H29: פ"ת , עילבון, נוף הגליל | I29: =VLOOKUP(B:B,[1]גיליון1!$B:$F,5,0) -> רופא פנימאי
A30: ד"ר | B30: =C30&" "&D30 -> חפר בן | C30: חפר | D30: בן | E30: רופא צלילה | F30: benhefer10@gmail.com | G30: 054-595-5503 | H30: תל אביב | I30: התמחות אורולוגיה
A31: ד"ר | B31: =C31&" "&D31 -> טל רועי | C31: טל | D31: רועי | E31: רופא צלילה בכיר | F31: divemed.il@gmail.com | G31: 050-9195245 | H31: מושב רגבה | I31: =VLOOKUP(B:B,[1]גיליון1!$B:$F,5,0) -> קרדיולוגיה ילדים
A32: ד"ר | B32: =C32&" "&D32 -> יונס אחמד | C32: יונס | D32: אחמד | E32: רופא צלילה | F32: Younis1980@yahoo.com | G32: 054-9842842 | H32: עמיקם | I32: רפואת צלילה
A33: ד"ר | B33: =C33&" "&D33 -> יניר יואב | C33: יניר | D33: יואב | E33: רופא צלילה בכיר | F33: yoav.yanir@gmail.com | G33: 052-9254939 | H33: חיפה | I33: אף, אוזן וגרון. ניתוחי ראש וצוואר
A34: ד"ר | B34: =C34&" "&D34 -> יסלוביץ' אורי | C34: יסלוביץ' | D34: אורי | E34: רופא צלילה | F34: oriyaslo@gmail.com | G34: 052-3603381 | H34: אזור השרון | I34: מומחה כירורגיה כללית וטראומה
A35: ד"ר | B35: =C35&" "&D35 -> יערי לי שאול | C35: יערי | D35: לי שאול | E35: רופא צלילה | F35: drleeyaariclinic@gmail.com | G35: 054-3604306 | H35: הרצליה
A36: ד"ר | B36: =C36&" "&D36 -> ישראלי עומר | C36: ישראלי | D36: עומר | E36: רופא צלילה | F36: dromerisraeli@gmail.com | G36: 052-3959784 | H36: תל אביב | I36: מומחה ברפואה פיסיקלית ושיקום
A37: ד"ר | B37: =C37&" "&D37 -> כהן נתן | C37: כהן | D37: נתן | E37: רופא צלילה בכיר | F37: natush1945@gmail.com | G37: 054-4755514 | H37: תאנה 5, בת חן | I37: מומחה ברפואת ילדים, נוירולוגיה והתפתחות הילד. רופא צלילה
A38: ד"ר | B38: =C38&" "&D38 -> לוין נתנאל | C38: לוין | D38: נתנאל | E38: רופא צלילה | F38: dr.levin.diving@gmail.com | G38: 054-8185948 | H38: תל אביב | J38: אורולוג
A39: ד"ר | B39: =C39&" "&D39 -> לוקיאק אלחנדרו | C39: לוקיאק | D39: אלחנדרו | E39: רופא צלילה | F39: alejandro.lokiec@gmail.com | G39: 050-2062360 | H39: יקנעם עילית | I39: מומחה נוירולוגיה
A40: ד"ר | B40: =C40&" "&D40 -> לי יערי | C40: לי | D40: יערי | E40: רופא צלילה | F40: drleeyaariclinic@gmail.com | G40: 054-3604306 | H40: הרצליה | I40: מומחה אורטופד | J40: כתובת מרפאה בית המדיב קומת קרקע חדר 206
A41: ד"ר | B41: =C41&" "&D41 -> ליאור יותם | C41: ליאור | D41: יותם | E41: רופא צלילה | F41: yotam.lior1@gmail.com | G41: 054-9987470 | H41: אילת | I41: הרדמה וטיפול נמרץ
A42: ד"ר | B42: =C42&" "&D42 -> ליכטנשטיין עדי | C42: ליכטנשטיין | D42: עדי | E42: רופאת צלילה | F42: Dr.Lichtenstein.dive@gmail.com | G42: 03-6973716 0587137130 | H42: תל אביב(איכילוב) | I42: מומחית בכירורגיה אורטופדית, רופאת ספורט וצלילה | J42: מייל נוסף: malram-dive@tlvmcgovil
A43: ד"ר | B43: =C43&" "&D43 -> מולא ויסאם | C43: מולא | D43: ויסאם | E43: רופא צלילה | F43: smileywess@gmail.com | G43: 050-3031124 | H43: רמת גן | I43: רפואה פנימית וקרדיולוגיה
A44: ד"ר | B44: =C44&" "&D44 -> מור יוסף דוד | C44: מור יוסף | D44: דוד | E44: רופא צלילה | F44: dr.moryosef@gmail.com | G44: 055-6675067 | H44: ת"א, קיסריה, חיפה, טבריה | I44: רפואת ספורט וצלילה | J44: סניף קיסריה : תרשיש 25 , פארק העסקים קיסריה קמפוס הרכבת בנין A , קומה 2 , חדר 209
A45: ד"ר | B45: =C45&" "&D45 -> מזרחי מתי | C45: מזרחי | D45: מתי | E45: רופא צלילה | F45: mattimizrachi@gmail.com | G45: 052-3763613 | H45: נהריה \ יקנעם | I45: אף אוזן גרון וכירורגיה של ראש וצוואר
A46: ד"ר | B46: =C46&" "&D46 -> מחאג'נה חוסיין | C46: מחאג'נה | D46: חוסיין | E46: רופא צלילה | F46: Hmahajna@gmail.com | G46: 050-3330310 | H46: אום אלפחם | I46: מומחה לגסטרואנטרולוגיה ורפואה פנימית.
A47: ד"ר | B47: =C47&" "&D47 -> מצליח ינון | C47: מצליח | D47: ינון | E47: רופא צלילה בכיר | F47: ymatsliah@gmail.com | G47: 052-9455428 | H47: עצמון- שגב | I47: מומחה לרפואת ילדים, מתמחה בנוירולוגיה והתפתחות הילד
A48: ד"ר | B48: =C48&" "&D48 -> נוימן יורם | C48: נוימן | D48: יורם | E48: רופא צלילה | F48: yorneu@gmail.com | G48: 054-4622037 | H48: הרצליה | I48: =VLOOKUP(B:B,[1]גיליון1!$B:$F,5,0) -> קרדיולוגיה
A49: פרופ | B49: =C49&" "&D49 -> נמט דן | C49: נמט | D49: דן | E49: רופא צלילה | F49: dnemet@gmail.com | G49: 053-7482729 | H49: כפר סבא | I49: =VLOOKUP(B:B,[1]גיליון1!$B:$F,5,0) -> ילדים | J49: רופא ילדים
A50: ד"ר | B50: =C50&" "&D50 -> נמסטניקוב מיכאל | C50: נמסטניקוב | D50: מיכאל | E50: רופא צלילה | F50: mikenmedicine@gmail.com | G50: 050-4560141 | H50: חולון ותל אביב | I50: רפואת צלילה
A51: ד"ר | B51: =C51&" "&D51 -> סגל אורטל | C51: סגל | D51: אורטל | E51: רופא צלילה | F51: ortalsegalmd@gmail.com | G51: 054-4244912 | H51: הרצליה | I51: רופא צלילה
A52: ד"ר | B52: =C52&" "&D52 -> סיבירסקי דוד | C52: סיבירסקי | D52: דוד | E52: רופא צלילה | F52: davidsy@zahav.net.il | G52: 054-6503512 | H52: באר שבע
A53: ד"ר | B53: =C53&" "&D53 -> עבו אהרן - רוני | C53: עבו | D53: אהרן - רוני | E53: רופא צלילה | F53: ronnie.abbo@gmail.com | G53: 04-6164910 | H53: בנימינה, חיפה | I53: התמחות קרדיולוגיה ואי ספיקת לב
A54: ד"ר | B54: =C54&" "&D54 -> פוייטש בריאן | C54: פוייטש | D54: בריאן | E54: רופא צלילה | F54: poitasbd@gmail.com | G54: 03-7325151 | H54: גבעתיים | I54: רפואת צלילה | J54: מבצע גם בדיקת ארגומטריה
A55: ד"ר | B55: =C55&" "&D55 -> פולק ניר | C55: פולק | D55: ניר | E55: רופא צלילה בכיר | F55: nirpolak2@gmail.com | G55: 052-4371882 | H55: אסף הרופא ויוספטל באילת | I55: רפואת צלילה
A56: ד"ר | B56: =C56&" "&D56 -> פוקס אלכסנדר | C56: פוקס | D56: אלכסנדר | E56: רופא צלילה | F56: : kanyuka2003@yahoo.com | G56: 054-6226416 | H56: חיפה | I56: רפואת צלילה
A57: ד"ר | B57: =C57&" "&D57 -> פישר ניל | C57: פישר | D57: ניל | E57: רופא צלילה | F57: nealfi@gmail.com | G57: 052-4658169 | H57: הרצליה | I57: רפואה דחופה
A58: פרופ' | B58: =C58&" "&D58 -> פלד ניר | C58: פלד | D58: ניר | E58: רופא צלילה | F58: peledclinic@gmail.com | G58: 058-6522878 | H58: תל אביב הברזל 11 | I58: מומחה לרפואה פנימית, ריאות ואונקולוגיה.מומחה לצלילה ורפואה היפרברית | J58: מנהל מערך האונקולוגי והאגף למחלות הסרטן, ביח' שערי צדק, ירושלים
A59: ד"ר | B59: =C59&" "&D59 -> פרחי יוסף | C59: פרחי | D59: יוסף | E59: רופא צלילה | F59: yossifarchi@gmail.com | G59: 052-2278013 | H59: תל אביב רב אשי 1 | I59: רפואת משפחה דיקור סיני אסטטיקה
A60: ד"ר | B60: =C60&" "&D60 -> פריץ, ספיבק, דורנוב | C60: פריץ, ספיבק, דורנוב | E60: רופא צלילה | G60: 08-6358011 | H60: בית החולים יוספטל אילת | J60: לפנות לחנה / אביבה 08:00-13:00
A61: פרופ' | B61: =C61&" "&D61 -> פרנקל שחר | C61: פרנקל | D61: שחר | E61: רופא צלילה | F61: shahar@hadassah.org.il | G61: 02-6778899 050-8946812 | H61: הדסה עין כרם, ירושלים | I61: רופא עיניים, אונקולוג עיניים | J61: וקישור לווטסאפ:
A62: ד"ר | B62: =C62&" "&D62 -> צינמון אודי | C62: צינמון | D62: אודי | E62: רופא צלילה | F62: udicin@yahoo.com | G62: 09-7414157/8 053-3525861 | H62: רעננה ורמת השרון | I62: רופא א.א.ג וכירורג ראש צוואר מרכז רפואי וולפסון אסותא מרפאות פרטיות | J62: מומחה למחלות אף אוזן גרון, ניתוח ראש וצוואר 09-7414147
A63: ד"ר | B63: =C63&" "&D63 -> צמח שרון | C63: צמח | D63: שרון | E63: רופא צלילה | F63: dr.tzemah@gmail.com | G63: 052-6678244 | H63: חיפה | I63: אורולוגיה/ רפואה פליאטיבית
A64: ד"ר | B64: =C64&" "&D64 -> קונסטנטיני נעמה | C64: קונסטנטיני | D64: נעמה | E64: רופאת צלילה | F64: naamacons@gmal.com | G64: 02-5325590 | H64: בי"ח שערי צדק | I64: מומחה רופא משפחה וספורט
A65: ד"ר | B65: =C65&" "&D65 -> קורולצ'וק רודד | C65: קורולצ'וק | D65: רודד | E65: רופא צלילה | F65: rodedk@gmail.com | G65: 04-7772487 | H65: חיפה
A66: ד"ר | B66: =C66&" "&D66 -> קיסרי יובל | C66: קיסרי | D66: יובל | E66: רופא צלילה | F66: Dr.yuval.kesary@gmail.com | G66: 052-6903605 | H66: פרדס חנה | I66: רפואת צלילה
A67: ד"ר | B67: =C67&" "&D67 -> קפוסטיאנסקי איליה | C67: קפוסטיאנסקי | D67: איליה | E67: רופא צלילה | F67: kapusta_sport@walla.co.il | G67: 052-3525861 | H67: רחובות ואשדוד | I67: רופא צלילה וספורט | J67: בדיקת מאמץ(ארגומטריה) ניתן לבצע במקום
A68: ד"ר | B68: =C68&" "&D68 -> קציר יאיר | C68: קציר | D68: יאיר | E68: רופא צלילה | F68: yairkarin@gmail.com | G68: 052-8566222 | H68: מכמורת | I68: מומחה ברפואה דחופה ילדים, רופא צלילה | J68: עובד במלר״ד ילדים, בית חולים הלל יפה, חדרה
A69: ד"ר | B69: =C69&" "&D69 -> קרופסקי מאיר | C69: קרופסקי | D69: מאיר | E69: רופא צלילה | F69: mest@smile.net.il | G69: 052-2590674 | H69: תל אביב | I69: מומחה ריאות | J69: מקבל כרופא צלילה, במושב מכמורת
A70: ד"ר | B70: =C70&" "&D70 -> רוזן אלי | C70: רוזן | D70: אלי | E70: רופא צלילה | F70: rosen.clinic.hadera@gmail.com | G70: 04-6216210 | H70: חדרה | I70: =VLOOKUP(B:B,[1]גיליון1!$B:$F,5,0) -> רפואת צלילה ועיניים | J70: רחוב קוסטליץ 4 מייל לאתר: wwwdrelirosencoil
A71: ד"ר | B71: =C71&" "&D71 -> רוזנבלט עמיר | C71: רוזנבלט | D71: עמיר | E71: רופא צלילה | F71: br.amir.rosenblatt@gmail.com | G71: 052-4266526 מזכירה | H71: מקבל באילת בימי חמישי ברמת החייל בימי רביעי | I71: רופא עיניים ובעיות עיניים
A72: ד"ר | B72: =C72&" "&D72 -> ריטבלט מור | C72: ריטבלט | D72: מור | E72: רופא צלילה | F72: Rittblat@gmail.com | G72: 052-8782526 | H72: חולון וירושלים | I72: צלילה וכירורגיה פלסטית | J72: רחוב קוסטליץ 4, חדרה
A73: ד"ר | B73: =C73&" "&D73 -> שהרבני עזרא | C73: שהרבני | D73: עזרא | E73: רופא צלילה | F73: shaharabaniezra@gmail.com | G73: 050-5457281 | H73: מושב תלמי יחיאל 69 | I73: רפואת צלילה
A74: ד"ר | B74: =C74&" "&D74 -> שומרון הילה | C74: שומרון | D74: הילה | E74: רופאת צלילה | F74: hila5shomron@gmail.com | G74: 054-2490646 | H74: מועדו צלילה קיסריה | I74: מומחה כירורגיה כללית
A75: ד"ר | B75: =C75&" "&D75 -> שכטר אריק | C75: שכטר | D75: אריק | E75: רופא צלילה | F75: arikshec@gmail.com | G75: 050-2063468 | H75: חיפה | I75: מומחה לרפואת המשפחה
A76: ד"ר | B76: =C76&" "&D76 -> שפירא שחר | C76: שפירא | D76: שחר | E76: רופא צלילה | F76: shacharsh@gmail.com | G76: 052-9456934 | H76: הוד השרון | I76: מומחה בכירורגיה אורטופדית ובמנהל רפואי
