Workbook

Sheet גיליון2
A1: תואר | C1: שם משפחה | D1: שם פרטי | E1: סטטוס משרדי | F1: Email | G1: טלפון נייד | H1: עיר | I1: התמחות | J1: הערות
A2: ד"ר | B2: =C2&" "&D2 -> אגבאריה דאהר | C2: אגבאריה | D2: דאהר | E2: רופא צלילה | F2: Dahereg@gmail.com | G2: 054-7778187 | H2: אילת | I2: מומחה לרפואה דחופה
A3: ד"ר | B3: =C3&" "&D3 -> אוסטפלד ישי | C3: אוסטפלד | D3: ישי | E3: רופא צלילה | F3: iostfeld@hotmail.com | G3: 050-6136635 | H3: רמת גן | I3: רופא צלילה מומחה לניתוחי לב וחזה מומחה למינהל רפואי רופא ספורט רופא תעופתי
A4: ד"ר | B4: =C4&" "&D4 -> אור עמרי | C4: אור | D4: עמרי | E4: רופא צלילה | F4: omriorr@gmail.com | G4: 050-8680798 | H4: חיפה | I4: מומחה אורתופדיה. רופא משפחה, כללי וצלילה
A5: ד"ר | B5: =C5&" "&D5 -> אורבך דליה | C5: אורבך | D5: דליה | E5: רופאת צלילה | F5: hsdne@bezeqint.net | G5: 086337517 | H5: אילת | I5: רפואת צלילה | J5: כתובת לוס אנגלס פטיו 1199 אילת
A6: ד"ר | B6: =C6&" "&D6 -> אליאס דקל | C6: אליאס | D6: דקל | E6: רופא צלילה | F6: elias.dekel@gmail.com | G6: 050-4838333 | H6: אילת | I6: רופא משפחה
A7: ד"ר | B7: =C7&" "&D7 -> אפרת כרמלה (כרמל) | C7: אפרת | D7: כרמלה (כרמל) | E7: רופאת צלילה בכירה | F7: Keren1@inter.net.il | G7: 050-5674693 | H7: חיפה, תל אביב\הרצליה, אילת | I7: רופאה תעופתית בכירה ישראל, ארה"ב
A8: פרופ' | B8: =C8&" "&D8 -> אפרתי שי | C8: אפרתי | D8: שי | E8: רופא צלילה בכיר | F8: efratishai@outlook.com | G8: 054-92-2866 | H8: בית חולים שמיר (אסף הרופא) | I8: רפואת צלילה | J8: מנהל מרכז 'סגול' לרפואה היפרברית וצלילה
A9: ד"ר | B9: =C9&" "&D9 -> ארנון רון | C9: ארנון | D9: רון | E9: רופא צלילה | F9: rarnon306@gmail.com | G9: 052-8306451 | H9: ירושלים | I9: מומחה לרפואה פנימי, מחלות דרכי העיכול והכבד
A10: פרופ' | B10: =C10&" "&D10 -> ביטרמן חיים | C10: ביטרמן | D10: חיים | E10: רופא צלילה בכיר | F10: haimb@technion.ac.il | G10: 050-6265504 | H10: חיפה | I10: רפואה פנימית
A11: ד"ר | B11: =C11&" "&D11 -> בלאו אילן | C11: בלאו | D11: אילן | E11: רופא צלילה | F11: dr.ilanblau@gmail.com | G11: 053-3649359 | H11: כפר סבא | I11: מומחה למחלות א.א.ג וניתוחי ראש צוואר כירורגיה אנדוסקופית של אף, סינוסים ובסיס גולגולת
A12: ד"ר | B12: =C12&" "&D12 -> בר רונן | C12: בר | D12: רונן | E12: רופא צלילה בכיר | F12: ronen.n.bar@gmail.com | G12: 052-9257123 | H12: פרדס חנה | I12: =VLOOKUP(B:B,[1]גיליון1!$B:$F,5,0) -> אא"ג
A13: ד"ר | B13: =C13&" "&D13 -> ברק יאיר | C13: ברק | D13: יאיר | E13: רופא צלילה | F13: yair@barakmedical.com | G13: 055-7047534 | H13: קרית אונו | I13: מומחה ברפואה תעסוקתית מומחה במנהל רפואי | J13: רופא צלילה ומדריך צלילה לרבות לצוללים עם צרכים מיוחדים לקביתע תורים ניתן להתקשר או לשלוח הודעה בווטצאפ
A14: ד"ר | B14: =C14&" "&D14 -> בשור עמרי | C14: בשור | D14: עמרי | E14: רופא צלילה | F14: Besor.omri@gmail.com | G14: 052-3200141 | H14: פרדס חנה | I14: רופא ספורט, מתמחה ברפואת משפחה
A15: ד"ר | B15: =C15&" "&D15 -> גור איבן | C15: גור | D15: איבן | E15: רופא צלילה בכיר | F15: ostyly@gmail.com | G15: 054-2555655 | H15: בנימינה | I15: רפואה פנימית
A16: ד"ר | B16: =C16&" "&D16 -> גילוני יאיר | C16: גילוני | D16: יאיר | E16: רופא צלילה | F16: ygilony@gmail.com | G16: 052-6848000 | H16: תל אביב | I16: רפואת צלילה
A17: ד"ר | B17: =C17&" "&D17 -> גלבוע בועז | C17: גלבוע | D17: בועז | E17: רופא צלילה | F17: boazgilboa1@gmail.com | G17: 054-5762599 | H17: מודיעין | I17: מומחה נוירודיולוג
A18: ד"ר | B18: =C18&" "&D18 -> גרין מיכאל-ברנרד | C18: גרין | D18: מיכאל-ברנרד | E18: רופא צלילה | F18: berniegreen@orange.net.il | G18: 050-8801023 | H18: כפר סבא | I18: רופא משפחה
A19: ד"ר | B19: =C19&" "&D19 -> דותן יניב | C19: דותן | D19: יניב | E19: רופא צלילה | F19: yanivdotan@gmail.com | H19: חיפה
A20: ד"ר | B20: =C20&" "&D20 -> הדני אמיר | C20: הדני | D20: אמיר | E20: רופא צלילה בכיר | F20: amir.had@gmail.com | G20: (+)1-518-801-8712 | H20: Florida, USA | I20: נוירוכירורגיה | J20: ייעוצי REMOTE בלבד
A21: פרופ | B21: =C21&" "&D21 -> הלפרן פנחס | C21: הלפרן | D21: פנחס | E21: רופא צלילה בכיר | F21: hpinny@gmail.com | H21: תל אביב | I21: =VLOOKUP(B:B,[1]גיליון1!$B:$F,5,0) -> רפואת צלילה | J21: ניתן ליצור קשר במייל - יעוצים בלבד
A22: ד"ר | B22: =C22&" "&D22 -> המלט יהלי | C22: המלט | D22: יהלי | E22: רופאת צלילה בכירה | F22: Yahli.hamlet@gmail.com | G22: 050-7875598 | H22: עתלית יפה נוף1/11 | I22: מומחית רפואת ילדים, תעופה וספורט | J22: ניתן ליצור קשר בוואטסאפ/מייל
A23: ד"ר | B23: =C23&" "&D23 -> ויטלי דיזינגוף | C23: ויטלי | D23: דיזינגוף | E23: רופא צלילה | F23: VitalyDi@clalit.org.il | G23: 052-6056488 | H23: אילת | I23: מומחה במחלות פנימיות וגסטרואנטרולוגיה ומחלות כבד
A24: פרופ' | B24: =C24&" "&D24 -> ויזל אורי | C24: ויזל | D24: אורי | E24: רופא צלילה | F24: Divingdoc1@gmail.com | G24: 054-9607701 | H24: טבריה, הרצליה | I24: מומחה בניתוחי חזה, כירורגיה כללית
A25: ד"ר | B25: =C25&" "&D25 -> וייס גל | C25: וייס | D25: גל | E25: רופא צלילה | F25: drgalweiss@gmail.com | G25: 050-4448546 | H25: אילת | I25: רפואה דחופה, משפחה, פנימית וצלילה | J25: ניתן ליצור קשר בוואטסאפ/מייל
A26: פרופ' | B26: =C26&" "&D26 -> ויסמן דן-ישראל | C26: ויסמן | D26: דן-ישראל | E26: רופא צלילה | F26: dwaisman@gmail.com | G26: 054-5221303 | H26: חיפה | I26: =VLOOKUP(B:B,[1]גיליון1!$B:$F,5,0) -> רפואת ילדים ורפואת ילודים ופגים
A27: ד"ר | B27: =C27&" "&D27 -> וקסלר רויטל | C27: וקסלר | D27: רויטל | E27: רופא צלילה | F27: twmddmd@gmail.com | H27: חיפה, שמשית | I27: =VLOOKUP(B:B,[1]גיליון1!$B:$F,5,0) -> רפואת שיניים, רפואת נשים | J27: ניתן ליצור קשר במייל בלבד
A28: ד"ר | B28: =C28&" "&D28 -> ז"ק רם | C28: ז"ק | D28: רם | E28: רופא צלילה בכיר | F28: ramsack@walla.com | G28: 052-8603763 | H28: בי"ח אלישע חיפה | I28: מומחה כירוגיה אורטופדית, רפואת ספורט, תעופה וצלילה
A29: ד"ר | B29: =C29&" "&D29 -> זרייק ענאן | C29: זרייק | D29: ענאן | E29: רופא צלילה | F29: anan.zr35@gmail.com | G29: 052-7211031 | H29: פ"ת , עילבון, נוף הגליל | I29: =VLOOKUP(B:B,[1]גיליון1!$B:$F,5,0) -> רופא פנימאי
A30: ד"ר | B30: =C30&" "&D30 -> חפר בן | C30: חפר | D30: בן | E30: רופא צלילה | F30: benhefer10@gmail.com | G30: 054-595-5503 | H30: תל אביב | I30: התמחות אורולוגיה
A31: ד"ר | B31: =C31&" "&D31 -> טל רועי | C31: טל | D31: רועי | E31: רופא צלילה בכיר | F31: divemed.il@gmail.com | G31: 050-9195245 | H31: מושב רגבה | I31: =VLOOKUP(B:B,[1]גיליון1!$B:$F,5,0) -> קרדיולוגיה ילדים
A32: ד"ר | B32: =C32&" "&D32 -> יונס אחמד | C32: יונס | D32: אחמד | E32: רופא צלילה | F32: Younis1980@yahoo.com | G32: 054-9842842 | H32: עמיקם | I32: רפואת צלילה
A33: ד"ר | B33: =C33&" "&D33 -> יניר יואב | C33: יניר | D33: יואב | E33: רופא צלילה בכיר | F33: yoav.yanir@gmail.com | G33: 052-9254939 | H33: חיפה | I33: אף, אוזן וגרון. ניתוחי ראש וצוואר
A34: ד"ר | B34: =C34&" "&D34 -> יסלוביץ' אורי | C34: יסלוביץ' | D34: אורי | E34: רופא צלילה | F34: oriyaslo@gmail.com | G34: 052-3603381 | H34: אזור השרון | I34: מומחה כירורגיה כללית וטראומה
A35: ד"ר | B35: =C35&" "&D35 -> יערי לי שאול | C35: יערי | D35: לי שאול | E35: רופא צלילה | F35: drleeyaariclinic@gmail.com | G35: 054-3604306 | H35: הרצליה
A36: ד"ר | B36: =C36&" "&D36 -> ישראלי עומר | C36: ישראלי | D36: עומר | E36: רופא צלילה | F36: dromerisraeli@gmail.com | G36: 052-3959784 | H36: תל אביב | I36: מומחה ברפואה פיסיקלית ושיקום
A37: ד"ר | B37: =C37&" "&D37 -> כהן נתן | C37: כהן | D37: נתן | E37: רופא צלילה בכיר | F37: natush1945@gmail.com | G37: 054-4755514 | H37: תאנה 5, בת חן | I37: מומחה ברפואת ילדים, נוירולוגיה והתפתחות הילד. רופא צלילה
A38: ד"ר | B38: =C38&" "&D38 -> לוין נתנאל | C38: לוין | D38: נתנאל | E38: רופא צלילה | F38: dr.levin.diving@gmail.com | G38: 054-8185948 | H38: תל אביב | J38: אורולוג
A39: ד"ר | B39: =C39&" "&D39 -> לוקיאק אלחנדרו | C39: לוקיאק | D39: אלחנדרו | E39: רופא צלילה | F39: alejandro.lokiec@gmail.com | G39: 050-2062360 | H39: יקנעם עילית | I39: מומחה נוירולוגיה
A40: ד"ר | B40: =C40&" "&D40 -> לי יערי | C40: לי | D40: יערי | E40: רופא צלילה | F40: drleeyaariclinic@gmail.com | G40: 054-3604306 | H40: הרצליה | I40: מומחה אורטופד | J40: כתובת מרפאה בית המדיב קומת קרקע חדר 206
...
